BEGIN:VCALENDAR
VERSION:2.0
PRODID:
BEGIN:VEVENT
UID:137367mb
DTSTAMP:20260419T144658Z
DTSTART:20260513T150000Z
DTEND:20260513T164900Z
SUMMARY: Building Your Personal Net Worth: Invest in Your Future
DESCRIPTION: By the nature of our work and training\, financial professionals have more personal finance knowledge than the general population. However\, sometimes we spend so much time planning our company's future that we neglect or defer taking steps to build our own personal net worth.

If you are dissatisfied about the speed that you are accumulating savings\, this session will help put you on the right track. Even if you are meeting your goals\, this session will provide insights and ideas which will add to and reinforce what you may already be doing\n 
CLASS:PUBLIC
END:VEVENT
END:VCALENDAR
