BEGIN:VCALENDAR
VERSION:2.0
PRODID:
BEGIN:VEVENT
UID:137379mb
DTSTAMP:20260419T144734Z
DTSTART:20260513T180000Z
DTEND:20260513T194900Z
SUMMARY: Cash Management: Strategies for Long-Term Success
DESCRIPTION: Many finance departments spend considerable time managing cash\, particularly if the organization is highly leveraged or cash rich. Many opportunities exist to reduce your financing costs or increase short-term cash returns if you manage cash effectively. This session will cover a wide variety of day-to-day cash management tools\n 
CLASS:PUBLIC
END:VEVENT
END:VCALENDAR
