BEGIN:VCALENDAR
VERSION:2.0
PRODID:
BEGIN:VEVENT
UID:137380mb
DTSTAMP:20260419T212546Z
DTSTART:20260522T140000Z
DTEND:20260522T154900Z
SUMMARY: Cash Management: Strategies for Long-Term Success
DESCRIPTION: Many finance departments spend considerable time managing cash\, particularly if the organization is highly leveraged or cash rich. Many opportunities exist to reduce your financing costs or increase short-term cash returns if you manage cash effectively. This session will cover a wide variety of day-to-day cash management tools\n 
CLASS:PUBLIC
END:VEVENT
END:VCALENDAR
