BEGIN:VCALENDAR
VERSION:2.0
PRODID:
BEGIN:VEVENT
UID:137415mb
DTSTAMP:20260420T113115Z
DTSTART:20260617T140000Z
DTEND:20260617T173900Z
SUMMARY: Expand Your Analytical Toolbox More Tools for Success
DESCRIPTION: Valuation techniques and cash management activities are two other tool categories that can round out your analytical toolbox. In this course we will initially discuss how to turn your financial plan into a powerful valuation engine. We then will discuss the formation of an efficient cash management program based on solid banker relationships. Finally\, we will review Ten Steps for keeping your financial toolbox full\n 
CLASS:PUBLIC
END:VEVENT
END:VCALENDAR
