BEGIN:VCALENDAR
VERSION:2.0
PRODID:
BEGIN:VEVENT
UID:137435mb
DTSTAMP:20260419T144611Z
DTSTART:20260514T140000Z
DTEND:20260514T173400Z
SUMMARY: Just Ask Why: Searching for Answers: Generating Solutions
DESCRIPTION: Breaking the Wall of blind acceptance\; avoiding habitual complacency and Yoking the dots between cause and effect\n 
CLASS:PUBLIC
END:VEVENT
END:VCALENDAR
