BEGIN:VCALENDAR
VERSION:2.0
PRODID:
BEGIN:VEVENT
UID:137438mb
DTSTAMP:20260421T222055Z
DTSTART:20260610T140000Z
DTEND:20260610T173300Z
SUMMARY: The Power of a Good Story!
DESCRIPTION: Storytelling makes wisdom stick\n 
CLASS:PUBLIC
END:VEVENT
END:VCALENDAR
