BEGIN:VCALENDAR
VERSION:2.0
PRODID:
BEGIN:VEVENT
UID:137448mb
DTSTAMP:20260419T162933Z
DTSTART:20260516T190000Z
DTEND:20260516T224400Z
SUMMARY: Planning for Small Business Success
DESCRIPTION: Strategic Planning for SMEs\n  
CLASS:PUBLIC
END:VEVENT
END:VCALENDAR
