BEGIN:VCALENDAR
VERSION:2.0
PRODID:
BEGIN:VEVENT
UID:137460mb
DTSTAMP:20260421T081207Z
DTSTART:20260505T190000Z
DTEND:20260505T224600Z
SUMMARY: Small Business Risk Avoidance
DESCRIPTION: Enterprise Risk Management for SMEs\n  
CLASS:PUBLIC
END:VEVENT
END:VCALENDAR
