BEGIN:VCALENDAR
VERSION:2.0
PRODID:
BEGIN:VEVENT
UID:137461mb
DTSTAMP:20260419T161143Z
DTSTART:20260516T150000Z
DTEND:20260516T184600Z
SUMMARY: Small Business Risk Avoidance
DESCRIPTION: Enterprise Risk Management for SMEs\n  
CLASS:PUBLIC
END:VEVENT
END:VCALENDAR
