BEGIN:VCALENDAR
VERSION:2.0
PRODID:
BEGIN:VEVENT
UID:137462mb
DTSTAMP:20260420T113000Z
DTSTART:20260617T150000Z
DTEND:20260617T184600Z
SUMMARY: Small Business Risk Avoidance
DESCRIPTION: Enterprise Risk Management for SMEs\n  
CLASS:PUBLIC
END:VEVENT
END:VCALENDAR
