BEGIN:VCALENDAR
VERSION:2.0
PRODID:
BEGIN:VEVENT
UID:137516mb
DTSTAMP:20260419T131730Z
DTSTART:20260512T130000Z
DTEND:20260512T144600Z
SUMMARY: Audit Risk Assessment in Plain English
DESCRIPTION: Audit Risk Assessment in Plain English\, is a 2 hour webcast highlighting the AICPA's clarified risk assessment standards\, along with a new Statement on Auditing Standard (SAS 145) related to understanding the entity\, the entity's environment\, the entity's internal controls and assessing the risks of material misstatement. This session will attempt to simplify the requirements using common sense examples and language\n 
CLASS:PUBLIC
END:VEVENT
END:VCALENDAR
