BEGIN:VCALENDAR
VERSION:2.0
PRODID:
BEGIN:VEVENT
UID:137531mb
DTSTAMP:20260419T131859Z
DTSTART:20260512T200000Z
DTEND:20260512T214700Z
SUMMARY: Common Audit & Financial Reporting Deficiencies in State & Local Governments
DESCRIPTION: Common Audit and Financial Reporting Deficiencies in State and Local Governments\, is a 2 hour webcast detailing many of the more common mistakes that auditors and accountants are making in either the preparation of their annual financial statements or the audits of such financial statements. Deficiencies in audit standards (AICPA\, GAO\, Single Audit) and preparation standards (GASB) noted in this webcast are driven by the most recent results found in audit organization peer reviews\, workpaper or desk reviews and various organizations checklists for oversight\n 
CLASS:PUBLIC
END:VEVENT
END:VCALENDAR
