BEGIN:VCALENDAR
VERSION:2.0
PRODID:
BEGIN:VEVENT
UID:137568mb
DTSTAMP:20260423T102709Z
DTSTART:20260608T140000Z
DTEND:20260608T154600Z
SUMMARY: Introduction to Forensic Data Analytics
DESCRIPTION: In this introductory course\, you'll learn the fundamentals of integrating forensic data analytics into your anti-fraud risk management program. We will cover key definitions\, use cases\, methodologies and some of the leading innovations and techniques driving this ever-evolving field of "finding hidden money."\n  
CLASS:PUBLIC
END:VEVENT
END:VCALENDAR
