BEGIN:VCALENDAR
VERSION:2.0
PRODID:
BEGIN:VEVENT
UID:137667mb
DTSTAMP:20260420T064419Z
DTSTART:20260605T150000Z
DTEND:20260605T161700Z
SUMMARY: Resolving Ethical Dilemmas: You Make the Call
DESCRIPTION: By now\, we should all understand the ethical obligations we have as CPAs. So\, theoretically\, if we just all agree to remain ethical\, we should not have CPA ethical violations. But\, of course\, our professional ethics committees still have plenty of cases to investigate. This session will examine several ethical frameworks\, including the AICPA's Code of Professional Conduct's and the GAO Yellow Book's Threats and Safeguards approach to remaining ethical and resolving ethical dilemmas. The session will present several ethical case studies that illustrate the complexities of and challenges to staying ethical.

By exercising our "ethical muscles"\, we should be better positioned to effectively deal with the ethical dilemmas that we will inevitably encounter\n Note: This course qualifies to count toward the WICPA membership Ethics CPE requirement\n 
CLASS:PUBLIC
END:VEVENT
END:VCALENDAR
