BEGIN:VCALENDAR
VERSION:2.0
PRODID:
BEGIN:VEVENT
UID:137721mb
DTSTAMP:20260420T191332Z
DTSTART:20260626T180000Z
DTEND:20260626T194900Z
SUMMARY: The CFO Series-Artificial Intelligence: A Practical Guide for Financial Leaders & CFOs
DESCRIPTION: In today's world\, AI hype bombards us from every direction. Every system seems to boast magical AI capabilities\, leading to confusion and overwhelming information. This course cuts through the noise to reveal the true\, practical applications of AI for your business today. Our goal is to give you real world examples of using AI on a day-to-day basis\, with a clear understanding of its particular strengths and limitations\n 
CLASS:PUBLIC
END:VEVENT
END:VCALENDAR
