BEGIN:VCALENDAR
VERSION:2.0
PRODID:
BEGIN:VEVENT
UID:137756mb
DTSTAMP:20260421T221856Z
DTSTART:20260610T130000Z
DTEND:20260610T210000Z
SUMMARY: The Single Audit From Beginning to End Update
DESCRIPTION: This course is an updated overview of the single audit of state and local governments and not-for-profit organizations under the OMB Unified Circular\, as well as the applicable AICPA standards for compliance audits\n 
CLASS:PUBLIC
END:VEVENT
END:VCALENDAR
