BEGIN:VCALENDAR
VERSION:2.0
PRODID:
BEGIN:VEVENT
UID:137780mb
DTSTAMP:20260420T113001Z
DTSTART:20260616T140000Z
DTEND:20260616T145700Z
SUMMARY: Consulting Services Secrets
DESCRIPTION: Award winning discussion leader Mark Hugh discusses how to create and capture value with consulting services. Whether you want to consult a little or full time\, this valuable course reviews identifying a specialty\, growing a practice\, capturing value\, creating deliverables and effective marketplace marketing strategies\n 
CLASS:PUBLIC
END:VEVENT
END:VCALENDAR
