BEGIN:VCALENDAR
VERSION:2.0
PRODID:
BEGIN:VEVENT
UID:137887mb
DTSTAMP:20260420T003639Z
DTSTART:20260527T160000Z
DTEND:20260527T170100Z
SUMMARY: Relationship Networking: The Art Of Conversation
DESCRIPTION: In the fast moving world where everyone is communicating through email\, text and instant messaging we have forgotten the power of face-to-face conversation. Communication and connection is the foundation for building a thriving network and business.

During this talk\, The Connector's Advantage author\, Michelle Tillis Lederman will inspire you to leverage the power of personal connection in the digital age while still incorporating the efficiency of virtual communication\n 
CLASS:PUBLIC
END:VEVENT
END:VCALENDAR
