BEGIN:VCALENDAR
VERSION:2.0
PRODID:
BEGIN:VEVENT
UID:137913mb
DTSTAMP:20260419T193929Z
DTSTART:20260520T150000Z
DTEND:20260520T183400Z
SUMMARY: 10 Keys to Outstanding Service & More Referrals
DESCRIPTION: In a competitive economy\, CPA's  and their firms need a way to stand out. The best way to do this is to give outstanding service to your clients. In this experiential workshop\, you'll learn skills that lead to dramatic client satisfaction. In addition\, you'll learn several specific ways to guarantee you'll get a lot of word of mouth referrals that will lead to a dramatic increase in your number of clients\n 
CLASS:PUBLIC
END:VEVENT
END:VCALENDAR
