BEGIN:VCALENDAR
VERSION:2.0
PRODID:
BEGIN:VEVENT
UID:137933mb
DTSTAMP:20260420T100427Z
DTSTART:20260613T140000Z
DTEND:20260613T173500Z
SUMMARY: Mastering Rapport Skills for Fun & Profit
DESCRIPTION: You only have one chance to make a good first impression. In the fast paced world we live in\, being able to create immediate rapport and a sense of trust with people is more important than ever. Fortunately\, this is an easily learnable skill that can serve you in both business and in life. People who can master the one minute relationship end up making more money\, being better liked and enjoying their clients more\n 
CLASS:PUBLIC
END:VEVENT
END:VCALENDAR
