BEGIN:VCALENDAR
VERSION:2.0
PRODID:
BEGIN:VEVENT
UID:137947mb
DTSTAMP:20260419T175558Z
DTSTART:20260518T200000Z
DTEND:20260518T233500Z
SUMMARY: Public Speaking Secrets That Wow Audiences
DESCRIPTION: In this course\, you'll learn why being able to do public speaking well is a major advantage in becoming successful in your career. You'll learn how to write a good talk\, how to present it well and how to use your new found ability to get more clients and/or a promotion. In addition\, you'll learn how to overcome your nervousness and how to overcome stress in less than a minute\n 
CLASS:PUBLIC
END:VEVENT
END:VCALENDAR
