BEGIN:VCALENDAR
VERSION:2.0
PRODID:
BEGIN:VEVENT
UID:137962mb
DTSTAMP:20260420T002850Z
DTSTART:20260527T160000Z
DTEND:20260527T170400Z
SUMMARY: Aligning Analytics to COSO's Fraud Risk Management Principles
DESCRIPTION: In this course\, participants will learn about the five principals of COSO's Fraud Risk Management Guide and the linkages each principal has to the use of forensic data analytics to measurably demonstrate effectiveness and ROI. We will also explore key elements to a successful program that is sustainable as well as pitfalls to avoid. Finally\, we will cover several case studies that demonstrate the key concepts discussed\n 
CLASS:PUBLIC
END:VEVENT
END:VCALENDAR
