BEGIN:VCALENDAR
VERSION:2.0
PRODID:
BEGIN:VEVENT
UID:137986mb
DTSTAMP:20260420T002825Z
DTSTART:20260527T170000Z
DTEND:20260527T185100Z
SUMMARY: Emerging Innovations in Forensic Data Analytics\, Crypto Currencies & AI\, ChatGPT
DESCRIPTION: In this course\, participants will learn about key trends and innovations impacting the field of forensic data analytics. From generative AI to ChatGPT\, machine learning and transaction review\, data sharing consortiums and cryptocurrency trends\, this course is for the futurist who wants to be leading edge in compliance and anti-fraud technology innovation\n 
CLASS:PUBLIC
END:VEVENT
END:VCALENDAR
