BEGIN:VCALENDAR
VERSION:2.0
PRODID:
BEGIN:VEVENT
UID:138004mb
DTSTAMP:20260420T191241Z
DTSTART:20260626T200000Z
DTEND:20260626T220000Z
SUMMARY: Mergers & Acquisitions: Tips & Speed Bumps to Avoid
DESCRIPTION: Mergers\, acquisitions and alliances have been and continue to be major avenues to organizational growth and increased competitive advantage. Despite the great initial promise of many mergers and alliances\, few seem to yield the anticipated results.

Numerous studies indicate that between 55% and 77% of mergers fail to accomplish their intended purpose. This course helps financial professionals and their advisors identify\, execute and consummate mergers and acquisitions that create shareholder value while avoiding the many traps that can cause post-acquisition failure\n 
CLASS:PUBLIC
END:VEVENT
END:VCALENDAR
