BEGIN:VCALENDAR
VERSION:2.0
PRODID:
BEGIN:VEVENT
UID:138031mb
DTSTAMP:20260419T211212Z
DTSTART:20260520T180000Z
DTEND:20260520T200000Z
SUMMARY: Cash Conversion Cycle: Tool & Techniques
DESCRIPTION: How well do you understand your organization's cash flow? Good cash management techniques can provide a competitive advantage! This session shows you how to effectively measure and manage your cash conversion cycle. With a more complete understanding of how cash flows through your organization\, you can eliminate impediments. Better cash management lowers your borrowing costs\, reduces financing needs and creates financial flexibility in your organization\n 
CLASS:PUBLIC
END:VEVENT
END:VCALENDAR
