BEGIN:VCALENDAR
VERSION:2.0
PRODID:
BEGIN:VEVENT
UID:138074mb
DTSTAMP:20260420T051921Z
DTSTART:20260602T190000Z
DTEND:20260602T195800Z
SUMMARY: Eight Biggest Threats to your business & introducing Three Pillars of Cybersecurity
DESCRIPTION: Cybercrime is on the rise and CPAs that handle sensitive client data are often the target of cybercrimes. By attending this session you'll learn what the eight biggest threats are to your business and uncover the three pillars of cybersecurity that you can build your firm's defense around\n 
CLASS:PUBLIC
END:VEVENT
END:VCALENDAR
