BEGIN:VCALENDAR
VERSION:2.0
PRODID:
BEGIN:VEVENT
UID:138096mb
DTSTAMP:20260420T021117Z
DTSTART:20260527T200000Z
DTEND:20260527T214800Z
SUMMARY: Employees Today & Tomorrow: Understanding & Improving The Employee Life Cycle
DESCRIPTION: Many organizations have a process documented for their employment life cycle but do not look at it wholistically. Having a longer view of the employee life cycle can provide more value to your company that you might think. Join us for an interactive discussion around the entire life cycle of employees with best practices discussed on continuous improvement for your organization. This session will provide an overview of each of the steps in the timeline from multiple perspectives\, to provide keen insights on actionable ideas to take back to your workplace and implement today\n 
CLASS:PUBLIC
END:VEVENT
END:VCALENDAR
