BEGIN:VCALENDAR
VERSION:2.0
PRODID:
BEGIN:VEVENT
UID:138114mb
DTSTAMP:20260420T100718Z
DTSTART:20260615T150000Z
DTEND:20260615T164800Z
SUMMARY: Employees Today & Tomorrow: The ROI on Your People?
DESCRIPTION: Employees drive the written and unwritten culture at your organization. Understanding the key workplace issues and how to solve them in today's environment can maximize the returns that employees provide for an organization. We take a deep dive into the research behind the larger issues with our workforce and discuss multiple practical solutions that will enhance your leadership and growth. How can we realize the most from our staff?\n  
CLASS:PUBLIC
END:VEVENT
END:VCALENDAR
