BEGIN:VCALENDAR
VERSION:2.0
PRODID:
BEGIN:VEVENT
UID:138240mb
DTSTAMP:20260419T193811Z
DTSTART:20260519T160000Z
DTEND:20260519T165800Z
SUMMARY: Leaders Eat Last. Why? 1 Hour Session
DESCRIPTION: Trust is essential\, because without trust\, there can be no teamwork. Trust is like oxygen\, when it is gone: we suffocate. This session provides a 15-step action plan to gain commitment from your team members\, build trust\, hold each person accountable and create results for your organization\n 
CLASS:PUBLIC
END:VEVENT
END:VCALENDAR
