BEGIN:VCALENDAR
VERSION:2.0
PRODID:
BEGIN:VEVENT
UID:138241mb
DTSTAMP:20260421T222839Z
DTSTART:20260609T170000Z
DTEND:20260609T175800Z
SUMMARY: Leaders Eat Last. Why? 1 Hour Session
DESCRIPTION: Trust is essential\, because without trust\, there can be no teamwork. Trust is like oxygen\, when it is gone: we suffocate. This session provides a 15-step action plan to gain commitment from your team members\, build trust\, hold each person accountable and create results for your organization\n 
CLASS:PUBLIC
END:VEVENT
END:VCALENDAR
