BEGIN:VCALENDAR
VERSION:2.0
PRODID:
BEGIN:VEVENT
UID:138304mb
DTSTAMP:20260419T181649Z
DTSTART:20260518T170000Z
DTEND:20260518T180000Z
SUMMARY: The Ethics of Artificial Intelligence ("AI"): The Interaction of AI & Ethics\, featuring Tracy Cooper\, CPA & Don Minges\, MBA
DESCRIPTION: Artificial Intelligence ("AI") can do and does amazing things\, but there are myriad ethical issues involved with AI. We will discuss the many ethical questions that AI raises and how to prevent them from having an adverse impact. We must be more diligent and aware of the ethical issues. AI has severe ethical pitfalls that we should understand clearly. AI is here to stay and we must understand how to mitigate the ethical issues\n Note: This course qualifies to count toward the WICPA membership Ethics CPE requirement\n 
CLASS:PUBLIC
END:VEVENT
END:VCALENDAR
