BEGIN:VCALENDAR
VERSION:2.0
PRODID:
BEGIN:VEVENT
UID:138364mb
DTSTAMP:20260420T034401Z
DTSTART:20260601T200000Z
DTEND:20260601T210300Z
SUMMARY: How Prevalent Is Retaliation Within Your Culture?
DESCRIPTION: Does your organization encourage timely reporting? Does your organization provide substantive protection for those who report? Organizations should be aware of characteristics indicative of a retaliatory culture: one in which bad actors are provided ample opportunity and cover to retaliate\n Note: This course qualifies to count toward the WICPA membership Ethics CPE requirement\n 
CLASS:PUBLIC
END:VEVENT
END:VCALENDAR
