BEGIN:VCALENDAR
VERSION:2.0
PRODID:
BEGIN:VEVENT
UID:138406mb
DTSTAMP:20260420T035108Z
DTSTART:20260601T150000Z
DTEND:20260601T161300Z
SUMMARY: Performance Management: Hiring to Retiring
DESCRIPTION: How you onboard a new employee is critical in ensuring they understand your company culture and are immersed properly in your organization. On the flipside\, in the event you are dealing with an employee termination\, this too is critical in handling with care and sensitivity\n 
CLASS:PUBLIC
END:VEVENT
END:VCALENDAR
