BEGIN:VCALENDAR
VERSION:2.0
PRODID:
BEGIN:VEVENT
UID:138414mb
DTSTAMP:20260419T180653Z
DTSTART:20260519T140000Z
DTEND:20260519T150300Z
SUMMARY: Best-In-Class Recruiting Strategies
DESCRIPTION: With over 4.3 employees leaving their jobs as of early 2022\, The Great Resignation presents a huge challenge for companies as they attract and retain talent. During this course\, you'll learn practical strategies you can implement immediately to ensure you have the right tools in your toolbox to win the war on talent\n 
CLASS:PUBLIC
END:VEVENT
END:VCALENDAR
