BEGIN:VCALENDAR
VERSION:2.0
PRODID:
BEGIN:VEVENT
UID:138420mb
DTSTAMP:20260421T093120Z
DTSTART:20260507T230000Z
DTEND:20260508T000000Z
SUMMARY: Rewards & Recognition Strategies for Leaders
DESCRIPTION: Whether you are responsible for managing 1 employee or 20\, your leadership can make or break your team. Learn practical leadership strategies that you can implement when you return to your office. In today's competitive market\, it's more imperative than ever that as leaders we are inspiring and motivating our teams to success\n 
CLASS:PUBLIC
END:VEVENT
END:VCALENDAR
