BEGIN:VCALENDAR
VERSION:2.0
PRODID:
BEGIN:VEVENT
UID:138423mb
DTSTAMP:20260420T002941Z
DTSTART:20260527T200000Z
DTEND:20260527T210000Z
SUMMARY: Rewards & Recognition Strategies for Leaders
DESCRIPTION: Whether you are responsible for managing 1 employee or 20\, your leadership can make or break your team. Learn practical leadership strategies that you can implement when you return to your office. In today's competitive market\, it's more imperative than ever that as leaders we are inspiring and motivating our teams to success\n 
CLASS:PUBLIC
END:VEVENT
END:VCALENDAR
