BEGIN:VCALENDAR
VERSION:2.0
PRODID:
BEGIN:VEVENT
UID:138437mb
DTSTAMP:20260419T181445Z
DTSTART:20260518T170000Z
DTEND:20260518T180000Z
SUMMARY: Stand Out: How to Create a Unique Employer Brand
DESCRIPTION: Learn why creating an employer brand is so important and instrumental in competing in today's competitive marketplace. Elevate your recruiting experience for candidates and onboarding process for new hires to enhance your employer's brand\n 
CLASS:PUBLIC
END:VEVENT
END:VCALENDAR
