BEGIN:VCALENDAR
VERSION:2.0
PRODID:
BEGIN:VEVENT
UID:138445mb
DTSTAMP:20260419T193809Z
DTSTART:20260520T150000Z
DTEND:20260520T160100Z
SUMMARY: Working Through Grief & Loss: How to Build a Supportive Workplace
DESCRIPTION: Now more than ever\, navigating loss\, grief and crisis in the workplace is a skillset that leaders must possess. Keeping the heart in human resources is so important\, especially in this post-pandemic state we are living in. We will explore ways that you can show empathy to your employees while also balancing your business needs\n 
CLASS:PUBLIC
END:VEVENT
END:VCALENDAR
