BEGIN:VCALENDAR
VERSION:2.0
PRODID:
BEGIN:VEVENT
UID:138466mb
DTSTAMP:20260420T002757Z
DTSTART:20260527T140000Z
DTEND:20260527T150600Z
SUMMARY: Productivity Hacks for Working Remote
DESCRIPTION: In this course\, we will share tips and tricks for working remotely. You will learn what to do/what not to do in a virtual working environment\, strategies for leading teams remotely\, employee engagement ideas and techniques and tools for teleworking\n 
CLASS:PUBLIC
END:VEVENT
END:VCALENDAR
