BEGIN:VCALENDAR
VERSION:2.0
PRODID:
BEGIN:VEVENT
UID:138515mb
DTSTAMP:20260419T210631Z
DTSTART:20260521T150000Z
DTEND:20260521T155900Z
SUMMARY: AI & You
DESCRIPTION: Every organization today is facing an onslaught of pressure to master Artificial Intelligence "AI" strategies across their enterprises. Never before have we witnessed such a steep expectation for how a "technology" can transform a business and never before have we been expected to leverage a technology so quickly and so completely. There is no denying AI presents perhaps the opportunity of a lifetime to transform and improve operations\, but to date few plans or roadmaps on how to unlock the promise of AI exist. In this class\, Steve Cadigan\, a globally renowned future of work expert\, will present a practical plan for how you can build your own AI strategy and how you can thrive in the AI revolution. Steve will show present a roadmap of how to build your confidence with AI to address this massive change management challenge\n 
CLASS:PUBLIC
END:VEVENT
END:VCALENDAR
