BEGIN:VCALENDAR
VERSION:2.0
PRODID:
BEGIN:VEVENT
UID:138568mb
DTSTAMP:20260420T142517Z
DTSTART:20260620T180000Z
DTEND:20260620T194900Z
SUMMARY: Annual Update on the 2024 Revised Uniform Guidance & Time & Effort Reporting
DESCRIPTION: The Uniform Guidance (2 CFR 200) pertains to the management of Federal Financial Assistance for grants and cooperative agreements. The Biden Administration has performed a comprehensive update where the revised Uniform Guidance was released in April 2024. We will review all of the significant compliance and threshold changes. In addition\, we will provide a brief presentation of the revised guidance as it pertains to Time and Effort reporting\n 
CLASS:PUBLIC
END:VEVENT
END:VCALENDAR
