BEGIN:VCALENDAR
VERSION:2.0
PRODID:
BEGIN:VEVENT
UID:138621mb
DTSTAMP:20260420T064432Z
DTSTART:20260604T230000Z
DTEND:20260605T000900Z
SUMMARY: Revenue Recognition Topic 606: Identify Performance Obligations Part I
DESCRIPTION: This course is meant to complement the course that evaluates all aspects of the five steps to revenue recognition. The course "Understanding the new revenue recognition rules" examines the five-step model outlined in the standard that organizations must utilize when recognizing revenue. The new standard applies to all companies\n 
CLASS:PUBLIC
END:VEVENT
END:VCALENDAR
