BEGIN:VCALENDAR
VERSION:2.0
PRODID:
BEGIN:VEVENT
UID:138727mb
DTSTAMP:20260420T130240Z
DTSTART:20260618T230000Z
DTEND:20260619T000100Z
SUMMARY: Everyday Ethics: Ethics is Everywhere\, All the Time! featuring Richard A. Karwic & Don Minges
DESCRIPTION: Ethical situations occur more often than many realize. We must stay vigilant. Sometimes a seemingly simple situation may seem innocuous at first\, but it can lead to large complications in the near future. In today's competitive environment\, one error posted on social media can damage a reputation forever. Social media posts can cause havoc\n Note: This course qualifies to count toward the WICPA membership Ethics CPE requirement\n 
CLASS:PUBLIC
END:VEVENT
END:VCALENDAR
