BEGIN:VCALENDAR
VERSION:2.0
PRODID:
BEGIN:VEVENT
UID:138731mb
DTSTAMP:20260419T224810Z
DTSTART:20260522T190000Z
DTEND:20260522T195000Z
SUMMARY: Sticky Ethical Choices\, featuring Bob Mims & Don Minges
DESCRIPTION: If ethics were easy\, then why do so many professionals have a Code of Conduct? Some Ethical decisions are easy\, others are not. We will discuss several thorny ethical issues and the ramifications. What are the considerations and evaluation criteria to use? The need to carefully deliberate alternatives: is paramount. Be aware\n Note: This course qualifies to count toward the WICPA membership Ethics CPE requirement\n 
CLASS:PUBLIC
END:VEVENT
END:VCALENDAR
