BEGIN:VCALENDAR
VERSION:2.0
PRODID:
BEGIN:VEVENT
UID:138746mb
DTSTAMP:20260420T070017Z
DTSTART:20260606T130000Z
DTEND:20260606T140700Z
SUMMARY: The Ethical Side of Trust\, featuring Richard A. Karwic & Don Minges
DESCRIPTION: You and I have a responsibility to our organizations and to the public to be ethical. We cannot forget this responsibility and this responsibility is constant. One lapse can cause profound issues that last. Ethics and trust are intertwined\, no one follows a `leader' who is not trusted. We will not focus on the negative and show the problems caused: rather\, we focus on what and how to set the example for others to follow. This seminar outlines the seven components of trust and how we should use these components daily\n Note: This course qualifies to count toward the WICPA membership Ethics CPE requirement\n 
CLASS:PUBLIC
END:VEVENT
END:VCALENDAR
