BEGIN:VCALENDAR
VERSION:2.0
PRODID:
BEGIN:VEVENT
UID:138763mb
DTSTAMP:20260420T065142Z
DTSTART:20260606T150000Z
DTEND:20260606T155000Z
SUMMARY: Assessing the Real Ethics of an Organization\, featuring Joe Oringel\, MBA\, CPA\, CIA & Don Minges\, MBA
DESCRIPTION: Every organization claims to be ethical\, but words and deeds do not always jibe. How do you assess the real Ethics of an organization?  What are the key factors and behaviors to be aware of? Many organizations lack prescriptive policies\, but is that an excuse to deviate from the spirit of doing the right thing?

How can professionals abuse `what is right' and circumvent policies for their personal benefit. What are some egregious examples of violating policies? How allowing exceptions invites abuse. This seminar outlines steps to gauge the ethics of an organization\n Note: This course qualifies to count toward the WICPA membership Ethics CPE requirement\n 
CLASS:PUBLIC
END:VEVENT
END:VCALENDAR
