BEGIN:VCALENDAR
VERSION:2.0
PRODID:
BEGIN:VEVENT
UID:138778mb
DTSTAMP:20260420T051921Z
DTSTART:20260604T190000Z
DTEND:20260604T200500Z
SUMMARY: The Head & Heart of Ethics: Featuring Bob Mims & Don Minges
DESCRIPTION: There are multiple facets to ethical choices\, including should you use your `head' or your `heart'? What are the pros and the cons?  How can we balance these opposing views?  

This seminar outlines the value of\; trust\, courage\, fairness\, sensitivity\, persistence\, honesty and gracefulness: to help us make better ethical decisions\n Note: This course qualifies to count toward the WICPA membership Ethics CPE requirement\n 
CLASS:PUBLIC
END:VEVENT
END:VCALENDAR
