BEGIN:VCALENDAR
VERSION:2.0
PRODID:
BEGIN:VEVENT
UID:138786mb
DTSTAMP:20260420T142543Z
DTSTART:20260622T130000Z
DTEND:20260622T140300Z
SUMMARY: Ethical Situations: What to do When?\, featuring Allison McLeod & Don Minges
DESCRIPTION: What would you do when ___? Is would the same as should? Examples\; Rashmi Airan-Pace and Yale Law School. What should you do when a vendor offers to give you tickets to the NCAA Final Four basketball tournament and your organization will permit it? Prepare for `situations' before they happen to you\n Note: This course qualifies to count toward the WICPA membership Ethics CPE requirement\n 
CLASS:PUBLIC
END:VEVENT
END:VCALENDAR
