BEGIN:VCALENDAR
VERSION:2.0
PRODID:
BEGIN:VEVENT
UID:138793mb
DTSTAMP:20260420T051921Z
DTSTART:20260604T130000Z
DTEND:20260604T140200Z
SUMMARY: It Is Legal\, But Is It Really Ethical?\, featuring Rob Berry & Bob Mims
DESCRIPTION: This discussion outlines situations where `legal' and `ethical' are not necessarily in alignment. How should you handle these issues?  We will detail a better thought process to help you avoid `crossing the line.'\n  Note: This course qualifies to count toward the WICPA membership Ethics CPE requirement\n 
CLASS:PUBLIC
END:VEVENT
END:VCALENDAR
