BEGIN:VCALENDAR
VERSION:2.0
PRODID:
BEGIN:VEVENT
UID:138803mb
DTSTAMP:20260420T051920Z
DTSTART:20260604T150000Z
DTEND:20260604T160400Z
SUMMARY: Awful Ethical Dilemmas: Bringing it to Life\, featuring J. Michael Inzina & Don Minges
DESCRIPTION: Professional Codes of Conduct make Ethics seem easy and clear cut. However\, this is not so in real life. This session discusses five cases where the ethics is not so clear cut. What should be considered?  We will explain how you can be more diligent and maintain awareness of ethical issues to become more effective and enhance the reputation of the profession\n Note: This course qualifies to count toward the WICPA membership Ethics CPE requirement\n 
CLASS:PUBLIC
END:VEVENT
END:VCALENDAR
